BEGIN:VCALENDAR
VERSION:2.0
PRODID:-//Flying Ace Farm - ECPv6.15.20//NONSGML v1.0//EN
CALSCALE:GREGORIAN
METHOD:PUBLISH
X-ORIGINAL-URL:https://flyingacefarm.com
X-WR-CALDESC:Events for Flying Ace Farm
REFRESH-INTERVAL;VALUE=DURATION:PT1H
X-Robots-Tag:noindex
X-PUBLISHED-TTL:PT1H
BEGIN:VTIMEZONE
TZID:America/Halifax
BEGIN:DAYLIGHT
TZOFFSETFROM:-0400
TZOFFSETTO:-0300
TZNAME:ADT
DTSTART:20240310T060000
END:DAYLIGHT
BEGIN:STANDARD
TZOFFSETFROM:-0300
TZOFFSETTO:-0400
TZNAME:AST
DTSTART:20241103T050000
END:STANDARD
BEGIN:DAYLIGHT
TZOFFSETFROM:-0400
TZOFFSETTO:-0300
TZNAME:ADT
DTSTART:20250309T060000
END:DAYLIGHT
BEGIN:STANDARD
TZOFFSETFROM:-0300
TZOFFSETTO:-0400
TZNAME:AST
DTSTART:20251102T050000
END:STANDARD
BEGIN:DAYLIGHT
TZOFFSETFROM:-0400
TZOFFSETTO:-0300
TZNAME:ADT
DTSTART:20260308T060000
END:DAYLIGHT
BEGIN:STANDARD
TZOFFSETFROM:-0300
TZOFFSETTO:-0400
TZNAME:AST
DTSTART:20261101T050000
END:STANDARD
END:VTIMEZONE
BEGIN:VTIMEZONE
TZID:America/New_York
BEGIN:DAYLIGHT
TZOFFSETFROM:-0500
TZOFFSETTO:-0400
TZNAME:EDT
DTSTART:20240310T070000
END:DAYLIGHT
BEGIN:STANDARD
TZOFFSETFROM:-0400
TZOFFSETTO:-0500
TZNAME:EST
DTSTART:20241103T060000
END:STANDARD
BEGIN:DAYLIGHT
TZOFFSETFROM:-0500
TZOFFSETTO:-0400
TZNAME:EDT
DTSTART:20250309T070000
END:DAYLIGHT
BEGIN:STANDARD
TZOFFSETFROM:-0400
TZOFFSETTO:-0500
TZNAME:EST
DTSTART:20251102T060000
END:STANDARD
BEGIN:DAYLIGHT
TZOFFSETFROM:-0500
TZOFFSETTO:-0400
TZNAME:EDT
DTSTART:20260308T070000
END:DAYLIGHT
BEGIN:STANDARD
TZOFFSETFROM:-0400
TZOFFSETTO:-0500
TZNAME:EST
DTSTART:20261101T060000
END:STANDARD
END:VTIMEZONE
BEGIN:VEVENT
DTSTART;TZID=America/Halifax:20251001T113000
DTEND;TZID=America/Halifax:20251001T210000
DTSTAMP:20260425T234440
CREATED:20250602T174210Z
LAST-MODIFIED:20250602T174210Z
UID:12191-1759318200-1759352400@flyingacefarm.com
SUMMARY:KIDS EAT FREE ~ EVERY WEDNESDAY!
DESCRIPTION:Make Wednesdays a family night to remember! For every adult meal purchased\, one child (under 12) eats FREE! Enjoy our delicious house-smoked barbecue and sides while the little ones enjoy a meal on us. Details: One free kids’ meal per adult meal purchased Applicable to children under 12 (child must be present) Dine-in onlyGather the family and join us for a midweek feast at Flying Ace Farm! Tag your friends and spread the word—see you this Wednesday!  \nClick on the link below to view our menu: \nhttps://flyingacefarm.com/menu-online-ordering/
URL:https://flyingacefarm.com/calendar/kids-eat-free-every-wednesday-18/
LOCATION:Flying Ace Farm
CATEGORIES:Kids
ATTACH;FMTTYPE=image/jpeg:https://flyingacefarm.com/wp-content/uploads/2025/06/IMG_6102-scaled.jpg
END:VEVENT
BEGIN:VEVENT
DTSTART;TZID=America/New_York:20251004T150000
DTEND;TZID=America/New_York:20251004T180000
DTSTAMP:20260425T234440
CREATED:20250531T163428Z
LAST-MODIFIED:20250531T163428Z
UID:12046-1759590000-1759600800@flyingacefarm.com
SUMMARY:Live Music by Noah "Red" Hawes at Flying Ace Farm
DESCRIPTION:Join us on Saturday\, October 4th\, from 3-6PM for live music by Noah “Red” Hawes. \nNoah’s Bio: \nMy name is Noah “Red” Hawes and I’m a local performer in the Frederick area. I play acoustic arrangements of covers as well as my own originals. The covers range from singer/songwriters from the 60s and 70s like Simon and Garfunkel and James Taylor\, current pop hits from One Direction and The Chainsmokers\, and everything in between. \nI have a bachelor’s degree in classical guitar and have played lead guitar and sang vocals in classic rock\, indie\, pop punk\, and metal bands. I utilize the classical guitar training to create my acoustic arrangements of covers\, combining the elements of bass\, guitar\, and driving percussive energy all on a single guitar. \nI have a YouTube channel (Red Hawes) with original and cover videos. I have an additional channel (Drew Hawes – Noah’s Gigs with Friends) that has videos from performances with the bands I have been in\, past and present\, as well as solo performances.
URL:https://flyingacefarm.com/calendar/live-music-by-noah-red-hawes-at-flying-ace-farm-13/
LOCATION:Flying Ace Farm
CATEGORIES:Live Music
ATTACH;FMTTYPE=image/jpeg:https://flyingacefarm.com/wp-content/uploads/2023/12/noah-hawes.jpg
END:VEVENT
BEGIN:VEVENT
DTSTART;TZID=America/Halifax:20251005T140000
DTEND;TZID=America/Halifax:20251005T170000
DTSTAMP:20260425T234440
CREATED:20250822T182643Z
LAST-MODIFIED:20250822T182643Z
UID:12272-1759672800-1759683600@flyingacefarm.com
SUMMARY:Live Music featuring Ali Tod at Flying Ace Farm
DESCRIPTION:Join us on Sunday\, October 5th\, from 2-5pm for live music featuring Ali Tod. \nAli’s Bio: \n\n\n\n\n\n\n\n\n\nAli fuses classical training with percussive fingerstyle guitar\, loop-pedal wizardry\, and raw\, soul-stirring vocals—drawing comparisons to Rodrigo y Gabriela and KT Tunstall. Her dynamic performances have wowed audiences from Mexico to the UK\, earning praise from industry legends\, including Brandi Carlile\, who said: “She’s ten times the musician we are!”\n Collaborations & Original Work\nAli has collaborated with iconic artists including Gabriela Quintero\, Vicki Genfan\, and The Voice UK finalist Sally Barker on her upcoming album “Monumental Journey”\, mixed by GRAMMY-winning producer Niko Bolas (Neil Young\, Brandi Carlile). Her second EP “Lumbini ’20” was recorded at Rodrigo y Gabriela’s private studio.\n Watch Ali in Action:\n• “Down” – NPR Tiny Desk Contest 2025 submission: Watch here\n• “Cuba Street” – Ali Tod & Jenny Clifford: Watch here\n Explore More:\n• Website: www.alitodmusic.com\n• Instagram: @alitodguitar\n• Facebook: Ali Tod Guitarist\n Classically Trained & Globally Recognized\nAli holds a Bachelor of Music in Classical Guitar with Honours and a Postgraduate Diploma in Music Education from the University of Edinburgh. She is the founder of Edinburgh Guitar Night\, a concert series that has hosted world-class guitarists from over 10 countries\, and continues to grow as a premier platform for guitar-focused live performance.\n Career Highlights & Collaborations\nGirls Just Wanna Weekend – Cancun\, MX (w/ Brandi Carlile\, Sara Bareilles\, Wynonna Judd)Zihuatanejo International Guitar Festival – MexicoWomen of Fingerstyle Guitar Showcase – House of Blues\, Anaheim (w/ Kaki King\, Yasmin Williams\, Muriel Anderson) \nNAMM – Yamaha Stage – Anaheim (w/ Rodrigo y Gabriela\, Nathan East\, Alex Skolnick\, Daniel Ho) \nBelfast International Guitar Festival – Northern Ireland (2018–2023) \nOran Mor – Glasgow (400-cap\, support for Jon Gomm) \nFiesta De Ballenas – Mexico (1\,000+ attendees\, performing with Rodrigo y Gabriela) \nArds International Guitar Festival – Northern Ireland \nEdinburgh Fringe Festival – Scotland
URL:https://flyingacefarm.com/calendar/live-music-featuring-ali-tod-at-flying-ace-farm-3/
LOCATION:Flying Ace Farm
CATEGORIES:Live Music
ATTACH;FMTTYPE=image/jpeg:https://flyingacefarm.com/wp-content/uploads/2025/06/Ali-Tod-musician-photo.jpeg
END:VEVENT
BEGIN:VEVENT
DTSTART;TZID=America/Halifax:20251008T113000
DTEND;TZID=America/Halifax:20251008T210000
DTSTAMP:20260425T234440
CREATED:20250602T174414Z
LAST-MODIFIED:20250602T174414Z
UID:12193-1759923000-1759957200@flyingacefarm.com
SUMMARY:KIDS EAT FREE ~ EVERY WEDNESDAY!
DESCRIPTION:Make Wednesdays a family night to remember! For every adult meal purchased\, one child (under 12) eats FREE! Enjoy our delicious house-smoked barbecue and sides while the little ones enjoy a meal on us. Details: One free kids’ meal per adult meal purchased Applicable to children under 12 (child must be present) Dine-in onlyGather the family and join us for a midweek feast at Flying Ace Farm! Tag your friends and spread the word—see you this Wednesday!  \nClick on the link below to view our menu: \nhttps://flyingacefarm.com/menu-online-ordering/
URL:https://flyingacefarm.com/calendar/kids-eat-free-every-wednesday-19/
LOCATION:Flying Ace Farm
CATEGORIES:Kids
ATTACH;FMTTYPE=image/jpeg:https://flyingacefarm.com/wp-content/uploads/2025/06/IMG_6102-scaled.jpg
END:VEVENT
BEGIN:VEVENT
DTSTART;TZID=America/New_York:20251011T150000
DTEND;TZID=America/New_York:20251011T180000
DTSTAMP:20260425T234440
CREATED:20250602T172801Z
LAST-MODIFIED:20250602T172801Z
UID:12166-1760194800-1760205600@flyingacefarm.com
SUMMARY:Live Music by Jake Phillips at Flying Ace Farm
DESCRIPTION:Join us on Saturday\, October 11th\, from 3-6PM for live music by Jake Phillips. \nJake Phillips is a singer/songwriter who has traveled the world; from US and European tours to Singapore and Canada and points beyond. With a powerful voice and dynamic guitar skills\, Jake’s repertoire includes original music and an eclectic set of classic folk and alternative covers. \nRECENT NEWS: Jake’s song “Brother of Mine” debuted on SUITS LA (Season 1\, episode 10) on May 4th\, 2025. You can check out his music on Spotify\, “My Fragile Ego.”
URL:https://flyingacefarm.com/calendar/live-music-by-jake-phillips-at-flying-ace-farm-41/
LOCATION:Flying Ace Farm
ATTACH;FMTTYPE=image/jpeg:https://flyingacefarm.com/wp-content/uploads/2023/08/7901_image_369974567_826714805823431_1726653859416587511_n.jpg
END:VEVENT
BEGIN:VEVENT
DTSTART;TZID=America/New_York:20251012T140000
DTEND;TZID=America/New_York:20251012T170000
DTSTAMP:20260425T234440
CREATED:20250531T182148Z
LAST-MODIFIED:20250531T182148Z
UID:12069-1760277600-1760288400@flyingacefarm.com
SUMMARY:Live Music featuring Lenny Burridge at Flying Ace Farm
DESCRIPTION:Join us on Sunday\, October 12th\, from 2-5PM for live music featuring Lenny Burridge. \nLenny’s Bio:\nI am a musician from Charleston SC and the Washington\, DC area and have been playing upwards of 300 gigs a year for more than 18 years. \nI’m also happy to provide references that can attest to my reputation of being professional\, on time and in tune with a variety of crowds and music tastes! \nI am a musician who plays a wide variety of musical styles\, ranging from blues and jazz standards to current radio hits and alternative. I pride myself on connecting with an audience and customizing my show to hold their interest. \nFor the last 18 years I have played up and down the east coast. I have played wineries and weddings\, breweries and bars\, festivals and corporate events! I am at home playing Irish music in a pub\, romantic music by the fire at a winery or formal restaurant\, or blues at a festival opening for national acts.
URL:https://flyingacefarm.com/calendar/live-music-featuring-lenny-burridge-at-flying-ace-farm/
LOCATION:Flying Ace Farm
CATEGORIES:Live Music
ATTACH;FMTTYPE=image/jpeg:https://flyingacefarm.com/wp-content/uploads/2024/01/9144_image_408406986_883164640178447_7534101528769867877_n.jpg
END:VEVENT
BEGIN:VEVENT
DTSTART;TZID=America/New_York:20251220T150000
DTEND;TZID=America/New_York:20251220T150000
DTSTAMP:20260425T234440
CREATED:20250602T171910Z
LAST-MODIFIED:20250602T171910Z
UID:12158-1766242800-1766242800@flyingacefarm.com
SUMMARY:Live Music featuring Lenny Burridge at Flying Ace Farm
DESCRIPTION:Join us on Saturday\, December 20th\, from 3-6PM for live music featuring Lenny Burridge. \nLenny’s Bio:\nI am a musician from Charleston SC and the Washington\, DC area and have been playing upwards of 300 gigs a year for more than 18 years. \nI’m also happy to provide references that can attest to my reputation of being professional\, on time and in tune with a variety of crowds and music tastes! \nI am a musician who plays a wide variety of musical styles\, ranging from blues and jazz standards to current radio hits and alternative. I pride myself on connecting with an audience and customizing my show to hold their interest. \nFor the last 18 years I have played up and down the east coast. I have played wineries and weddings\, breweries and bars\, festivals and corporate events! I am at home playing Irish music in a pub\, romantic music by the fire at a winery or formal restaurant\, or blues at a festival opening for national acts.
URL:https://flyingacefarm.com/calendar/live-music-featuring-lenny-burridge-at-flying-ace-farm-3/
LOCATION:Flying Ace Farm
CATEGORIES:Live Music
ATTACH;FMTTYPE=image/jpeg:https://flyingacefarm.com/wp-content/uploads/2024/01/9144_image_408406986_883164640178447_7534101528769867877_n.jpg
END:VEVENT
BEGIN:VEVENT
DTSTART;TZID=America/Halifax:20251015T113000
DTEND;TZID=America/Halifax:20251015T210000
DTSTAMP:20260425T234440
CREATED:20250602T174459Z
LAST-MODIFIED:20250602T174459Z
UID:12195-1760527800-1760562000@flyingacefarm.com
SUMMARY:KIDS EAT FREE ~ EVERY WEDNESDAY!
DESCRIPTION:Make Wednesdays a family night to remember! For every adult meal purchased\, one child (under 12) eats FREE! Enjoy our delicious house-smoked barbecue and sides while the little ones enjoy a meal on us. Details: One free kids’ meal per adult meal purchased Applicable to children under 12 (child must be present) Dine-in onlyGather the family and join us for a midweek feast at Flying Ace Farm! Tag your friends and spread the word—see you this Wednesday!  \nClick on the link below to view our menu: \nhttps://flyingacefarm.com/menu-online-ordering/
URL:https://flyingacefarm.com/calendar/kids-eat-free-every-wednesday-20/
LOCATION:Flying Ace Farm
CATEGORIES:Kids
ATTACH;FMTTYPE=image/jpeg:https://flyingacefarm.com/wp-content/uploads/2025/06/IMG_6102-scaled.jpg
END:VEVENT
BEGIN:VEVENT
DTSTART;TZID=America/Halifax:20251018T150000
DTEND;TZID=America/Halifax:20251018T180000
DTSTAMP:20260425T234440
CREATED:20250531T150626Z
LAST-MODIFIED:20250531T150626Z
UID:11991-1760799600-1760810400@flyingacefarm.com
SUMMARY:Live Music featuring Jon G at Flying Ace Farm
DESCRIPTION:Join us on Saturday\, October 18th\, from 3-6pm for live music featuring Jon G at Flying Ace Farm. \nJon’s Bio: \nJon G. is the frontman of up and coming alternative act “The Young Man.” In between writing and releasing new music with his band\, he is a can’t miss solo cover artist that performs all around Northern Virginia.\nCovering radio hits from: Classic Rock / Country / 80s / 90s / Modern Pop / Alternative
URL:https://flyingacefarm.com/calendar/live-music-featuring-jon-g-at-flying-ace-farm-6/
LOCATION:Flying Ace Farm\, 40950 Flying Ace Lane\, Lovettsville\, VA\, 20180\, US
CATEGORIES:Live Music
ATTACH;FMTTYPE=image/jpeg:https://flyingacefarm.com/wp-content/uploads/2024/09/Jon-G-scaled.jpg
END:VEVENT
BEGIN:VEVENT
DTSTART;TZID=America/Halifax:20251022T113000
DTEND;TZID=America/Halifax:20251022T210000
DTSTAMP:20260425T234440
CREATED:20250602T174706Z
LAST-MODIFIED:20250602T174706Z
UID:12197-1761132600-1761166800@flyingacefarm.com
SUMMARY:KIDS EAT FREE ~ EVERY WEDNESDAY!
DESCRIPTION:Make Wednesdays a family night to remember! For every adult meal purchased\, one child (under 12) eats FREE! Enjoy our delicious house-smoked barbecue and sides while the little ones enjoy a meal on us. Details: One free kids’ meal per adult meal purchased Applicable to children under 12 (child must be present) Dine-in onlyGather the family and join us for a midweek feast at Flying Ace Farm! Tag your friends and spread the word—see you this Wednesday!  \nClick on the link below to view our menu: \nhttps://flyingacefarm.com/menu-online-ordering/
URL:https://flyingacefarm.com/calendar/kids-eat-free-every-wednesday-21/
LOCATION:Flying Ace Farm
CATEGORIES:Kids
ATTACH;FMTTYPE=image/jpeg:https://flyingacefarm.com/wp-content/uploads/2025/06/IMG_6102-scaled.jpg
END:VEVENT
BEGIN:VEVENT
DTSTART;TZID=America/Halifax:20251025T150000
DTEND;TZID=America/Halifax:20251025T180000
DTSTAMP:20260425T234440
CREATED:20250531T164632Z
LAST-MODIFIED:20250531T164632Z
UID:12058-1761404400-1761415200@flyingacefarm.com
SUMMARY:Live Music featuring Patty Reese at Flying Ace Farm
DESCRIPTION:Join us on Saturday\, October 25th\, from 3-6pm for live music featuring Patty Reese at Flying Ace Farm. \nPatty’s Bio: \nFrom performing 250 dates a year\, solo acoustic and/or full band\, Americana artist Patty Reese has earned troubadour status. Her powerhouse vocals\, strong work ethic and sharply honed songwriting skills paved the way for this new release Lift Us Up\, her most captivating work to date. \n“Recording this new album Lift Us Up\, has been cathartic and nothing short of a complete joy for me.”\nWhen offered the opportunity to record on the Nashville-based Creative and Dreams label with a top notch producer and fantastic studio\, Patty was excited to explore the broad scope of Americana including American Roots\, Blues and Soul showcasing her diverse vocal style and life experience. \nA fan and critic favorite\, Reese has been recognized by the Washington DC Area Music Association with 17 awards including Artist\, Songwriter and Album of the Year. Performances include major venues and festivals including supporting international artists—Beth Hart\, Greg Allman\, Buddy Guy\, Aretha Franklin\, Little Feat\, Ruthie Foster and others. \nSongwriting influences include Bob Dylan\, Brandi Carlisle and Chris Stapleton. Recognizing her stunning and commanding vocals and a no holds barred approach to performance\, Patty has been compared to Aretha Franklin\, Tanya Tucker\, Adele and Janis Joplin and cites all of them as major inspiration. \nEarlier releases Let in the Sun\, Here and Now\, and Strong Medicine – #1 on ADP Global Indicator Radio chart – collectively enjoyed Americana and National Roots Music Reports status\, including 5 singles in the Top 40. \n“My music has always been my palette and safe harbor for loving and laughing at life and expressing my deepest pain. Most important to me is delivering bone deep\, authentic\, truth.”\nOn “Lift Us Up” (title track and first single) with strong Gospel-like layered vocals\, Patty affirms our combined capacity to have each other’s back and lift each other up. “Root of the Matter\,” is a Rolling Stonesy romp through a funny\, self deprecating look at a tragically ridiculous relationship. By contrast\, “Wild Blue Yonder” is a Rock rollercoaster\, evoking the freedom and the exaltation of living and healing after recovery in a Born to be Wild kind of way. “Salty and Sweet” is a super fun dance tune celebrating the heat of a zesty relationship with a partner who’s tantalizingly Salty and Sweet! Patty’s soulful vocals and impeccable phrasing continues to shine on timeless classics “Help Me Make It Through The Night” (Kris Kristofferson)\, “The Dock of The Bay” (Otis Redding)\, “Mandolin Wind” (Rod Stewart) along with the Burt Bacharach anthem and always relevant “What The World needs Now Is Love.” \nCheck out Patty Reese Lift Us Up on Spotify\, iTunes\, Amazon\, Apple Music and all streaming platforms worldwide. \nLISTEN NOW!\n“With a superb balance of steamy and sultry\, power and passion in her vocals and the ability to cover a wide range of dynamics and genres\, from rockin’ blues to power soul and smooth ballads\, Patty Reese delivers the full package on her new album Let In The Sun.” \n— Rick J. Bowen \n“The feeling that Patty puts in her music\, her soulful\, bluesy voice and her personality make her a staple at the Chesapeake Bay Blues Festival. I get hundreds of demo CDs a year. Patty’s new CD is my favorite.” \n— Don Hooker\, Producer\, Chesapeake Bay Blues Festival \nAWARDS\nWashington Area Music Association (WAMMIES):\nAlbum of the Year\nArtist of the Year\nSongwriter of the Year\nBest Roots Rock Album\nRoots Rock Vocalist\nArtist Website\nNorthern California Songwriters Association honors\nMid Atlantic Song Contest honors\nTrueValue Hardware National Songwriting Top 10 Contest winner\nFESTIVALS\nRehoboth Jazz Festival\nSunfest\nEast Coast Jazz Fest\nRockville City Festival\nCalifornia Expo and State Fair\nMontgomery County Fair\nMaryland Wine Festival\nBaltimore’s Artscape\nConcert venues in Key West\, Myrtle Beach\, Mt. Shasta\, Sacramento & NYC\nDC / Baltimore AREA VENUES\nCamden Yards (National Anthem)\nThe Birchmere\nBlues Alley\n9:30 Club\nStrathmore\nBarns of Wolf Trap\nRecher Theater\nAvalon Theater\nRamshead Main Stage\nIOTA Club & Cafe\nRECORDINGS\nLet In The Sun (Azalea City Recordings)\nStrong Medicine (Azalea City Recordings)\nHere and Now\nThe Broad Highway\nThe Patty Reese Band: A Night to Remember\nOne Night Stand featuring Patty Reese
URL:https://flyingacefarm.com/calendar/live-music-featuring-patty-reese-at-flying-ace-farm-6/
LOCATION:Flying Ace Farm\, 40950 Flying Ace Lane\, Lovettsville\, VA\, 20180\, US
CATEGORIES:Live Music
ATTACH;FMTTYPE=image/jpeg:https://flyingacefarm.com/wp-content/uploads/2024/08/IMG_0981.jpg
END:VEVENT
BEGIN:VEVENT
DTSTART;TZID=America/Halifax:20251026T140000
DTEND;TZID=America/Halifax:20251026T170000
DTSTAMP:20260425T234440
CREATED:20250602T172708Z
LAST-MODIFIED:20250602T172708Z
UID:12167-1761487200-1761498000@flyingacefarm.com
SUMMARY:Live Music featuring Mo & Mary Mac at Flying Ace Farm
DESCRIPTION:Join us on Sunday\, October 26th\, from 2-5PM for live music featuring Mo & Mary Mac.\n\nBio: Mo Safren\, short for Morris\, is a native of Culpeper\, Virginia. He is a pianist and singer that has studied under some of the best teachers in the world at the Shenandoah Conservatory in Winchester\, VA. Mo maintains a deep love and understanding of music\, which keeps him passionate about all his musical endeavors.\nMary McCarthy was born to be a vocalist\, yet it wasn’t until 2022 that she began singing professionally—seeking something more out of life\, and she found it in music. With a voice and lyrics that can quiet a room\, her passion and energy captivate every audience\, leaving a lasting impression on all who have the pleasure of hearing her perform.\nMo & Mary Mac came together in April 2022 after meeting at a local music festival in Culpeper\, Virginia\, where they shared the stage with seven other musicians and captivated the crowd. Inspired by their connection\, they formed a duo and quickly gained momentum.\nSince then\, Mo & Mary Mac have performed at breweries and wineries across the country\, headlined their first show at Songbyrd Music House in Washington\, D.C.\, in August 2023\, and spent six months touring Florida in a 26-foot Lazy Daze RV.\nWith smooth harmonies\, fun covers\, and heartfelt original songs\, Mo & Mary Mac bring a warm and inviting energy to every performance. Their debut album\, “Wonderful Life\,” was released on February 16\, 2024.
URL:https://flyingacefarm.com/calendar/live-music-featuring-mo-mary-mac-at-flying-ace-farm-2/
LOCATION:Flying Ace Farm
CATEGORIES:Live Music
ATTACH;FMTTYPE=image/jpeg:https://flyingacefarm.com/wp-content/uploads/2025/05/Mo-and-Mary-Mac.jpg
END:VEVENT
BEGIN:VEVENT
DTSTART;TZID=America/New_York:20251026T160000
DTEND;TZID=America/New_York:20251026T180000
DTSTAMP:20260425T234440
CREATED:20250926T184845Z
LAST-MODIFIED:20251004T200015Z
UID:12290-1761494400-1761501600@flyingacefarm.com
SUMMARY:5th Annual Trunk or Treat Event at Flying Ace Farm
DESCRIPTION:Flying Ace Farm along with the Lovettsville American Legion Auxiliary invites you to join in on the fun as we host our 5th Annual Trunk or Treat at the farm! This Halloween\, we’re calling all automobiles to participate in our Trunk or Treat. Register your vehicle\, decorate it\, and hand out candy to those who come in costume. Vehicle registration is $25 and includes one Flying Ace beer\, a raffle ticket for a used whiskey barrel and a chance to win two $100 Flying Ace Farm Gift cards for the “Fan Favorite” or “Kids Choice” Award for the best decorated vehicle! This event is free for families to participate and a guaranteed good time for kids and parents alike! All proceeds benefit the Lovettsville American Legion Auxiliary. \nTwo ways to register: Visit us at Flying Ace Farm or register online using the link below! \nhttps://order.toasttab.com/online/flying-ace-farm-40950-flying-ace-ln \n \n 
URL:https://flyingacefarm.com/calendar/5th-annual-trunk-or-treat-event-at-flying-ace-farm/
LOCATION:Flying Ace Farm
CATEGORIES:Halloween,Kids,October,Trunk or Treat
END:VEVENT
BEGIN:VEVENT
DTSTART;TZID=America/Halifax:20251029T113000
DTEND;TZID=America/Halifax:20251029T210000
DTSTAMP:20260425T234440
CREATED:20250602T175108Z
LAST-MODIFIED:20250602T175108Z
UID:12199-1761737400-1761771600@flyingacefarm.com
SUMMARY:KIDS EAT FREE ~ EVERY WEDNESDAY!
DESCRIPTION:Make Wednesdays a family night to remember! For every adult meal purchased\, one child (under 12) eats FREE! Enjoy our delicious house-smoked barbecue and sides while the little ones enjoy a meal on us. Details: One free kids’ meal per adult meal purchased Applicable to children under 12 (child must be present) Dine-in onlyGather the family and join us for a midweek feast at Flying Ace Farm! Tag your friends and spread the word—see you this Wednesday!  \nClick on the link below to view our menu: \nhttps://flyingacefarm.com/menu-online-ordering/
URL:https://flyingacefarm.com/calendar/kids-eat-free-every-wednesday-22/
LOCATION:Flying Ace Farm
CATEGORIES:Kids
ATTACH;FMTTYPE=image/jpeg:https://flyingacefarm.com/wp-content/uploads/2025/06/IMG_6102-scaled.jpg
END:VEVENT
BEGIN:VEVENT
DTSTART;TZID=America/New_York:20251031T190000
DTEND;TZID=America/New_York:20251031T210000
DTSTAMP:20260425T234440
CREATED:20251030T215832Z
LAST-MODIFIED:20251030T215832Z
UID:12323-1761937200-1761944400@flyingacefarm.com
SUMMARY:TRIVIA ~ FREE TO PLAY ~ EVERY FRIDAY!
DESCRIPTION:Join us EVERY Friday for TRIVIA hosted by Pourhouse Trivia. This event starts at 7pm and is free to play. Winning team receives a prize! \nClick on the link below to see this week’s standings! \nhttps://www.pourhousetrivia.com/flying-ace-farm.html
URL:https://flyingacefarm.com/calendar/trivia-free-to-play-every-friday/
ATTACH;FMTTYPE=image/jpeg:https://flyingacefarm.com/wp-content/uploads/2024/03/9643_image_431335614_937347064760204_932051245563186033_n.jpg
END:VEVENT
END:VCALENDAR