BEGIN:VCALENDAR
VERSION:2.0
PRODID:-//Flying Ace Farm - ECPv6.15.20//NONSGML v1.0//EN
CALSCALE:GREGORIAN
METHOD:PUBLISH
X-WR-CALNAME:Flying Ace Farm
X-ORIGINAL-URL:https://flyingacefarm.com
X-WR-CALDESC:Events for Flying Ace Farm
REFRESH-INTERVAL;VALUE=DURATION:PT1H
X-Robots-Tag:noindex
X-PUBLISHED-TTL:PT1H
BEGIN:VTIMEZONE
TZID:America/Halifax
BEGIN:DAYLIGHT
TZOFFSETFROM:-0400
TZOFFSETTO:-0300
TZNAME:ADT
DTSTART:20250309T060000
END:DAYLIGHT
BEGIN:STANDARD
TZOFFSETFROM:-0300
TZOFFSETTO:-0400
TZNAME:AST
DTSTART:20251102T050000
END:STANDARD
BEGIN:DAYLIGHT
TZOFFSETFROM:-0400
TZOFFSETTO:-0300
TZNAME:ADT
DTSTART:20260308T060000
END:DAYLIGHT
BEGIN:STANDARD
TZOFFSETFROM:-0300
TZOFFSETTO:-0400
TZNAME:AST
DTSTART:20261101T050000
END:STANDARD
BEGIN:DAYLIGHT
TZOFFSETFROM:-0400
TZOFFSETTO:-0300
TZNAME:ADT
DTSTART:20270314T060000
END:DAYLIGHT
BEGIN:STANDARD
TZOFFSETFROM:-0300
TZOFFSETTO:-0400
TZNAME:AST
DTSTART:20271107T050000
END:STANDARD
END:VTIMEZONE
BEGIN:VTIMEZONE
TZID:America/New_York
BEGIN:DAYLIGHT
TZOFFSETFROM:-0500
TZOFFSETTO:-0400
TZNAME:EDT
DTSTART:20250309T070000
END:DAYLIGHT
BEGIN:STANDARD
TZOFFSETFROM:-0400
TZOFFSETTO:-0500
TZNAME:EST
DTSTART:20251102T060000
END:STANDARD
BEGIN:DAYLIGHT
TZOFFSETFROM:-0500
TZOFFSETTO:-0400
TZNAME:EDT
DTSTART:20260308T070000
END:DAYLIGHT
BEGIN:STANDARD
TZOFFSETFROM:-0400
TZOFFSETTO:-0500
TZNAME:EST
DTSTART:20261101T060000
END:STANDARD
BEGIN:DAYLIGHT
TZOFFSETFROM:-0500
TZOFFSETTO:-0400
TZNAME:EDT
DTSTART:20270314T070000
END:DAYLIGHT
BEGIN:STANDARD
TZOFFSETFROM:-0400
TZOFFSETTO:-0500
TZNAME:EST
DTSTART:20271107T060000
END:STANDARD
END:VTIMEZONE
BEGIN:VEVENT
DTSTART;TZID=America/Halifax:20260101T120000
DTEND;TZID=America/Halifax:20260101T143000
DTSTAMP:20260425T181242
CREATED:20251209T014807Z
LAST-MODIFIED:20251209T021439Z
UID:12432-1767268800-1767277800@flyingacefarm.com
SUMMARY:New Year's Day Brunch 2026
DESCRIPTION:New Year’s Day Brunch 2026\n  \n✨ Ring in the New Year with us at Flying Ace Farm! ✨Start 2026 on a delicious note with our All-You-Can-Eat New Year’s Day Brunch on January 1st from 12–2:30 PM. \nWe’ll also have holiday cocktails available for purchase\, along with tastings of our Limited Release Christmas Blend Bourbon — our Straight Bourbon Whiskey finished in Maple Syrup Barrels. 🥃✨ \nBring your friends\, your family\, and your appetite — we’ll take care of the rest.Cheers to a fresh start\, good food\, and great company at the farm. 🎉 \nTICKETS: $39.99 ADULT/ $19.99 KIDS UNDER 12 YEARS OLD \nClick on the link below to purchase tickets: \nNew Year’s Day Brunch Tickets \n \n \n  \n*Tickets non-refundable 7 days prior to event (12.25.2025)
URL:https://flyingacefarm.com/calendar/new-years-day-brunch-3/
LOCATION:Flying Ace Farm
ATTACH;FMTTYPE=image/png:https://flyingacefarm.com/wp-content/uploads/2025/12/New-Years-Brunch-Menu-web-featured-image.png
END:VEVENT
BEGIN:VEVENT
DTSTART;TZID=America/New_York:20260102T190000
DTEND;TZID=America/New_York:20260102T210000
DTSTAMP:20260425T181242
CREATED:20251031T134827Z
LAST-MODIFIED:20251031T134827Z
UID:12326-1767380400-1767387600@flyingacefarm.com
SUMMARY:TRIVIA ~ FREE TO PLAY ~ EVERY FRIDAY!
DESCRIPTION:Join us EVERY Friday for TRIVIA hosted by Pourhouse Trivia. This event starts at 7pm and is free to play. Winning team receives a prize! \nClick on the link below to see this week’s standings! \nhttps://www.pourhousetrivia.com/flying-ace-farm.html
URL:https://flyingacefarm.com/calendar/trivia-free-to-play-every-friday-9/
LOCATION:Flying Ace Farm
ATTACH;FMTTYPE=image/jpeg:https://flyingacefarm.com/wp-content/uploads/2024/03/9643_image_431335614_937347064760204_932051245563186033_n.jpg
END:VEVENT
BEGIN:VEVENT
DTSTART;TZID=America/New_York:20260103T150000
DTEND;TZID=America/New_York:20260103T180000
DTSTAMP:20260425T181242
CREATED:20251229T223155Z
LAST-MODIFIED:20251230T222200Z
UID:12652-1767452400-1767463200@flyingacefarm.com
SUMMARY:Live Music at Flying Ace Farm featuring Alex Kerns
DESCRIPTION:Live Music at Flying Ace Farm featuring Alex Kerns\nJoin us on Saturday\, January 3rd\, from 3-6PM for live music by Alex Kerns.. \nBio:Known to genre bend\, Alex Kerns covers a wide range of artists and songs. From the classic sounds of the Beatles to Tyler Childers to the Americana vibe of his own originals. Hailing from Berryville\, Virginia\, Alex Kerns is the cofounder and bass player of the Low Water Bridge band. Alex Kerns is regionally well known and always leaves a smile on the faces of the fans and patrons that attend his shows.\n\nBorn and raised in Clarke County\, Virginia\, Alex Kern’s has been playing up and down the Shenandoah Valley for the past 15 years. He is currently the bass player for Low Water Bridge Band\, but also pursues a busy acoustic solo career. He’s played everywhere from small amphitheaters to small back yard private parties and always a perfect fit for just about any occasion.\nTo learn more about Alex Kerns and upcoming performances\, visit his official Facebook page. \nBe sure to check out our full Live Music Schedule at Flying Ace Farm to see all upcoming performances. \n  \n 
URL:https://flyingacefarm.com/calendar/live-music-at-flying-ace-farm-featuring-alex-kerns-jan-3-2026/
LOCATION:Flying Ace Farm
CATEGORIES:Live Music
ATTACH;FMTTYPE=image/jpeg:https://flyingacefarm.com/wp-content/uploads/2025/12/Alex-Kerns-band-photo.jpg
END:VEVENT
BEGIN:VEVENT
DTSTART;TZID=America/Halifax:20260104T140000
DTEND;TZID=America/Halifax:20260104T170000
DTSTAMP:20260425T181242
CREATED:20251229T191420Z
LAST-MODIFIED:20260106T220814Z
UID:12470-1767535200-1767546000@flyingacefarm.com
SUMMARY:Live Music at Flying Ace Farm featuring Cole Douglas
DESCRIPTION:Live Music at Flying Ace Farm featuring Cole Douglas\nJoin us on Sunday\, January 4th\, from 2-5pm for live music featuring Cole Douglas at Flying Ace Farm. \nCole’s Bio: Blending the raw grit of country with the soul of the blues\, Cole Douglas is a singer/songwriter from Export Pennsylvania whose music Echos across genres pulling heartstrings with a sound that is as honest as it is unforgettable. Cole’s music style is uniquely his own mixing many different styles into his own sound. \nTo learn more about Cole Douglas and upcoming performances\, visit his official Facebook page. \nBe sure to check out our full Live Music Schedule at Flying Ace Farm to see all upcoming performances.
URL:https://flyingacefarm.com/calendar/live-music-featuring-cole-douglas-at-flying-ace-farm-5/
LOCATION:Flying Ace Farm\, 40950 Flying Ace Lane\, Lovettsville\, VA\, 20180\, US
CATEGORIES:Live Music
ATTACH;FMTTYPE=image/jpeg:https://flyingacefarm.com/wp-content/uploads/2024/10/IMG_1262.jpg
END:VEVENT
BEGIN:VEVENT
DTSTART;TZID=America/New_York:20260110T150000
DTEND;TZID=America/New_York:20260110T180000
DTSTAMP:20260425T181242
CREATED:20251230T212632Z
LAST-MODIFIED:20251230T215048Z
UID:12671-1768057200-1768068000@flyingacefarm.com
SUMMARY:Live Music at Flying Ace Farm featuring Robert Mabe
DESCRIPTION:Live Music at Flying Ace Farm featuring Robert Mabe\nJoin us on Saturday\, January 10th\, from 3-6pm for live music featuring Robert Mabe. \nMusician Bio:\nAs a kid growing up in North Carolina\, Robert was surrounded by many great bluegrass musicians. In fact\, his grandfather was a guitar/bass player who also performed at The Grand Ole Opry. \nWhen his parents gave him a banjo at age 12\, he began taking lessons and attending local bluegrass jams and he was soon hooked. \nListening to Earl Scruggs\, Bela Fleck\, and all things bluegrass\, he also became interested in other styles of music including Jazz\, Irish\, and Blues. While taking banjo lessons he would also seek out piano\, guitar\, and sax teachers to translate their styles to banjo. \nThis was not just for the love of the banjo but also for the love of live performance. Over the years Robert has performed thousands of live shows across the USA and abroad; in 2013 he was honored to perform at Carnegie Hall. \nRobert has recorded with many great musicians including Larry Keel\, Clay Jones\, and Patrick McAvinue. Roberts solo studio release\, “Somewhere in the Middle”\, was written and produced by Robert\, showcasing his versitile songwriting skills and includes an all star cast of musicians. \n“Somewhere in the Middle” also caught the attention of Bluegrass Today and Bluegrass Unlimited who both published rave reviews and high praise of the project. Currently Robert is touring the US full time with around 100 dates a year on the calendar. In addition to festivals and music venues\, he performs dozens of private events each year. \n*To learn more about Robert Mabe and upcoming shows\, visit his official website. \n**Be sure to check out our Live Music Schedule at Flying Ace Farm to see all upcoming performances. \n  \n 
URL:https://flyingacefarm.com/calendar/live-music-at-flying-ace-farm-featuring-robert-mabe-jan-10-2026/
LOCATION:Flying Ace Farm
CATEGORIES:Live Music
ATTACH;FMTTYPE=image/jpeg:https://flyingacefarm.com/wp-content/uploads/2025/12/Robert-Mabe-photo-scaled.jpg
END:VEVENT
BEGIN:VEVENT
DTSTART;TZID=America/New_York:20260111T140000
DTEND;TZID=America/New_York:20260111T170000
DTSTAMP:20260425T181242
CREATED:20251230T203835Z
LAST-MODIFIED:20260106T214029Z
UID:12667-1768140000-1768150800@flyingacefarm.com
SUMMARY:Live Music at Flying Ace Farm featuring Gary Smallwood
DESCRIPTION:Live Music at Flying Ace Farm featuring Gary Smallwood.\nJoin us on Sunday January 11th\, from 2-5PM for live music by Gary Smallwood. \nGary’s style of music consists of Classic Rock\, Country Rock\, soulful Blues Rock or what he likes to call: “flat out guitar-driven blues-infused rural contemporary music”…he has a great appreciation for all types of music and sometimes will incorporate soul\, R&B\, funk\, country and ‘show tunes’ into his playing. Gary also gives back to the community by playing shows for numerous benefits and charities throughout the region. He is a well respected and hard working musician\, playing 200+ shows a year. \nTo learn more about Gary Smallwood\, including upcoming shows\, visit his official website. \nBe sure to check out our full Live Music Schedule at Flying Ace Farm to see all upcoming performances. \n  \n 
URL:https://flyingacefarm.com/calendar/live-music-at-flying-ace-farm-featuring-the-gary-smallwood-jan-11-2026/
LOCATION:Flying Ace Farm
CATEGORIES:Live Music
ATTACH;FMTTYPE=image/jpeg:https://flyingacefarm.com/wp-content/uploads/2023/01/6629_image_326388007_877756933568888_4776669599990119669_n.jpg
END:VEVENT
BEGIN:VEVENT
DTSTART;TZID=America/New_York:20260117T150000
DTEND;TZID=America/New_York:20260117T180000
DTSTAMP:20260425T181242
CREATED:20251229T203352Z
LAST-MODIFIED:20251229T225551Z
UID:12469-1768662000-1768672800@flyingacefarm.com
SUMMARY:Live Music at Flying Ace Farm featuring Joey Hafner
DESCRIPTION:Live Music at Flying Ace Farm featuring Joey Hafner\nJoin us on Saturday\, January 17th\, from 3-6PM for live music by Joey Hafner. \nJoey Hafner is a vocalist and guitar player based in Lovettsville\, Virginia\, delivering high-energy acoustic performances as a solo artist and as the front man of the party rock cover band Ghost Pepper. With a musical journey that began at age nine\, Joey was shaped by the alternative explosion of the 90s\, drawing early inspiration from bands like Jane’s Addiction\, Smashing Pumpkins\, and Pearl Jam. Known for engaging\, crowd-friendly sets\, Joey blends alternative rock\, 90s hip hop\, classic rock\, and country into performances built for wineries\, breweries\, and live entertainment venues throughout Northern Virginia and Central Maryland. His shows often feature creative mashups\, familiar sing-alongs\, and the occasional surprise throwback\, creating a fun\, energetic atmosphere that keeps audiences involved from start to finish. Whether performing solo\, in a duo\, or leading Ghost Pepper\, Joey brings professionalism\, versatility\, and genuine passion to every stage. \nJoey Hafner is a seasoned performer known for energetic acoustic sets throughout the region – learn more on his official Facebook page. \nBe sure to check out our full Live Music Schedule at Flying Ace Farm to see all upcoming performances. \n  \n 
URL:https://flyingacefarm.com/calendar/live-music-at-flying-ace-farm-jan-17-2026/
LOCATION:Flying Ace Farm
CATEGORIES:Live Music
ATTACH;FMTTYPE=image/jpeg:https://flyingacefarm.com/wp-content/uploads/2025/12/att.X3fnWM3GloCKyNXVsjVNKQwb8h0gDGrZe9VPCb5TaEY.jpg
END:VEVENT
BEGIN:VEVENT
DTSTART;TZID=America/New_York:20260118T140000
DTEND;TZID=America/New_York:20260118T170000
DTSTAMP:20260425T181242
CREATED:20251229T230623Z
LAST-MODIFIED:20251229T230712Z
UID:12662-1768744800-1768755600@flyingacefarm.com
SUMMARY:Live Music at Flying Ace Farm featuring The Punch Buggies
DESCRIPTION:Live Music at Flying Ace Farm featuring The Punch Buggies\nJoin us on Sunday January 18th\, from 2-5PM for live music by The Punch Buggies. \nThe Punch Buggies brings together four experienced and talented musicians and singer/songwriters to revive the magic of classic acoustic sounds and harmonious vocals. With a retro vibe inspired by the timeless tunes of the 70s\, 80s\, 90s\, and beyond\, they offer a captivating repertoire of covers spanning genres from folk and rock to pop and more. \nTo learn more about The Punch Buggies\, visit their official Facebook page. \nBe sure to check out our full Live Music Schedule at Flying Ace Farm to see all upcoming performances. \n  \n 
URL:https://flyingacefarm.com/calendar/live-music-at-flying-ace-farm-featuring-the-punch-buggies-jan-18-2026/
LOCATION:Flying Ace Farm
CATEGORIES:Live Music
ATTACH;FMTTYPE=image/jpeg:https://flyingacefarm.com/wp-content/uploads/2025/12/Punch-Buggies-band-photo-1.jpg
END:VEVENT
BEGIN:VEVENT
DTSTART;TZID=America/New_York:20260124T150000
DTEND;TZID=America/New_York:20260124T180000
DTSTAMP:20260425T181242
CREATED:20251230T220801Z
LAST-MODIFIED:20260106T191811Z
UID:12680-1769266800-1769277600@flyingacefarm.com
SUMMARY:Live Music at Flying Ace Farm featuring Powerhouse Vocalist Laura Cashman
DESCRIPTION:Live Music at Flying Ace Farm featuring Powerhouse Vocalist Laura Cashman\nJoin us on Saturday\, January 24th\, from 3-6pm for live music featuring Laura Cashman covering hits from 70s\, 80s\, 90s\, 00s and today with a few originals thrown in the mix! \nMusician Bio:\nLaura Cashman is a knock out powerhouse vocalist that will captivate you through an entire song and leave you excited to listen to more. Her unmatched energy along with her crowd engagement has gained her a following right from the start of her musical career. She began her music journey by being a part of the most sought after cover band on the East coast. The band is called Millennium and they were top of the live entertainment charts for 5 years while Laura was a part of it. She has played in the top of the top venues in cities such as Washington\, DC\, Baltimore\, Philadelphia\, Pittsburgh and New York (just to name a few) for people in high places including famous bands’\, politicians’ and athletes’\, weddings and events.\n​\nRecently she decided to switch gears and focus her music on herself\, singing and playing acoustic guitar for vineyards\, breweries\, private events and more. She covers a wide variety of music from the 70s\, 80s\, 90s\, 00s and what’s on the radio today with a few original songs thrown in the set list as well. She’s a crowd favorite that will sure to deliver an entertaining\, fun and memorable performance. \n*To learn more about Laura Cashman and upcoming performances\, visit her official website. \n**Be sure to check out our Live Music Schedule at Flying Ace Farm to see all upcoming performances. \n  \n 
URL:https://flyingacefarm.com/calendar/live-music-at-flying-ace-farm-featuring-laura-cashman-jan-24-2026/
LOCATION:Flying Ace Farm
CATEGORIES:Live Music
ATTACH;FMTTYPE=image/jpeg:https://flyingacefarm.com/wp-content/uploads/2024/08/IMG_0982-scaled.jpg
END:VEVENT
BEGIN:VEVENT
DTSTART;TZID=America/New_York:20260131T150000
DTEND;TZID=America/New_York:20260131T180000
DTSTAMP:20260425T181242
CREATED:20260106T191337Z
LAST-MODIFIED:20260106T191337Z
UID:12688-1769871600-1769882400@flyingacefarm.com
SUMMARY:Live Music at Flying Ace Farm featuring Will Shepard
DESCRIPTION:Live Music at Flying Ace Farm featuring Will Shepard\nJoin us on Saturday\, January 31st\, from 3-6pm for live music featuring Will Shepard \nMusician Bio:\nWill is a Veteran\, Loudoun County teacher\, proud father and husband\, and lives for music. He puts his twist on Americana sound and soulful melodies. He plays a large variety of songs and has been known to bring a solid energy to the people he plays for. C’mon out and hang! \n*To learn more about Will Shepard and upcoming performances\, visit his Facebook page or Instagram page. \n**Be sure to check out our Live Music Schedule at Flying Ace Farm to see all upcoming performances. \n  \n 
URL:https://flyingacefarm.com/calendar/live-music-at-flying-ace-farm-featuring-will-shepard/
LOCATION:Flying Ace Farm
CATEGORIES:Live Music
ATTACH;FMTTYPE=image/jpeg:https://flyingacefarm.com/wp-content/uploads/2026/01/will-shepard-musician-scaled.jpeg
END:VEVENT
END:VCALENDAR