BEGIN:VCALENDAR
VERSION:2.0
PRODID:-//Flying Ace Farm - ECPv6.15.20//NONSGML v1.0//EN
CALSCALE:GREGORIAN
METHOD:PUBLISH
X-ORIGINAL-URL:https://flyingacefarm.com
X-WR-CALDESC:Events for Flying Ace Farm
REFRESH-INTERVAL;VALUE=DURATION:PT1H
X-Robots-Tag:noindex
X-PUBLISHED-TTL:PT1H
BEGIN:VTIMEZONE
TZID:America/Halifax
BEGIN:DAYLIGHT
TZOFFSETFROM:-0400
TZOFFSETTO:-0300
TZNAME:ADT
DTSTART:20250309T060000
END:DAYLIGHT
BEGIN:STANDARD
TZOFFSETFROM:-0300
TZOFFSETTO:-0400
TZNAME:AST
DTSTART:20251102T050000
END:STANDARD
BEGIN:DAYLIGHT
TZOFFSETFROM:-0400
TZOFFSETTO:-0300
TZNAME:ADT
DTSTART:20260308T060000
END:DAYLIGHT
BEGIN:STANDARD
TZOFFSETFROM:-0300
TZOFFSETTO:-0400
TZNAME:AST
DTSTART:20261101T050000
END:STANDARD
BEGIN:DAYLIGHT
TZOFFSETFROM:-0400
TZOFFSETTO:-0300
TZNAME:ADT
DTSTART:20270314T060000
END:DAYLIGHT
BEGIN:STANDARD
TZOFFSETFROM:-0300
TZOFFSETTO:-0400
TZNAME:AST
DTSTART:20271107T050000
END:STANDARD
END:VTIMEZONE
BEGIN:VTIMEZONE
TZID:America/New_York
BEGIN:DAYLIGHT
TZOFFSETFROM:-0500
TZOFFSETTO:-0400
TZNAME:EDT
DTSTART:20250309T070000
END:DAYLIGHT
BEGIN:STANDARD
TZOFFSETFROM:-0400
TZOFFSETTO:-0500
TZNAME:EST
DTSTART:20251102T060000
END:STANDARD
BEGIN:DAYLIGHT
TZOFFSETFROM:-0500
TZOFFSETTO:-0400
TZNAME:EDT
DTSTART:20260308T070000
END:DAYLIGHT
BEGIN:STANDARD
TZOFFSETFROM:-0400
TZOFFSETTO:-0500
TZNAME:EST
DTSTART:20261101T060000
END:STANDARD
BEGIN:DAYLIGHT
TZOFFSETFROM:-0500
TZOFFSETTO:-0400
TZNAME:EDT
DTSTART:20270314T070000
END:DAYLIGHT
BEGIN:STANDARD
TZOFFSETFROM:-0400
TZOFFSETTO:-0500
TZNAME:EST
DTSTART:20271107T060000
END:STANDARD
END:VTIMEZONE
BEGIN:VEVENT
DTSTART;TZID=America/Halifax:20260506T150000
DTEND;TZID=America/Halifax:20260506T200000
DTSTAMP:20260425T141049
CREATED:20260410T155213Z
LAST-MODIFIED:20260410T155213Z
UID:12779-1778079600-1778097600@flyingacefarm.com
SUMMARY:KIDS EAT FREE ~ EVERY WEDNESDAY!
DESCRIPTION:KIDS EAT FREE ~ EVERY WEDNESDAY AT FLYING ACE FARM\nMake Wednesdays a family night to remember! For every adult meal purchased\, one child (under 12) eats FREE! Enjoy our delicious house-smoked barbecue\, burgers\, hot dogs and sides while the little ones enjoy a meal on us. Details: One free kids’ meal per adult meal purchased Applicable to children under 12 (child must be present) Dine-in onlyGather the family and join us for a midweek feast at Flying Ace Farm! Tag your friends and spread the word—see you this Wednesday!  \nClick on the link below to view our menu: \nhttps://flyingacefarm.com/menu-online-ordering/
URL:https://flyingacefarm.com/calendar/kids-eat-free-every-wednesday-35/
LOCATION:Flying Ace Farm
CATEGORIES:Kids
ATTACH;FMTTYPE=image/jpeg:https://flyingacefarm.com/wp-content/uploads/2025/06/IMG_6102-scaled.jpg
END:VEVENT
BEGIN:VEVENT
DTSTART;TZID=America/New_York:20260508T190000
DTEND;TZID=America/New_York:20260508T210000
DTSTAMP:20260425T141049
CREATED:20260410T160046Z
LAST-MODIFIED:20260410T160533Z
UID:12791-1778266800-1778274000@flyingacefarm.com
SUMMARY:TRIVIA ~ FREE TO PLAY ~ EVERY FRIDAY!
DESCRIPTION:TRIVIA\nJoin us EVERY Friday for TRIVIA hosted by Pourhouse Trivia. This event starts at 7pm and is free to play. Winning team receives a prize! \nClick on the link below to see this week’s standings! \nhttps://www.pourhousetrivia.com/flying-ace-farm.html
URL:https://flyingacefarm.com/calendar/trivia-free-to-play-every-friday-12/
LOCATION:Flying Ace Farm
ATTACH;FMTTYPE=image/jpeg:https://flyingacefarm.com/wp-content/uploads/2024/03/9643_image_431335614_937347064760204_932051245563186033_n.jpg
END:VEVENT
BEGIN:VEVENT
DTSTART;TZID=America/Halifax:20260510T113000
DTEND;TZID=America/Halifax:20260510T143000
DTSTAMP:20260425T141049
CREATED:20260412T142313Z
LAST-MODIFIED:20260412T142313Z
UID:12797-1778412600-1778423400@flyingacefarm.com
SUMMARY:Mother's Day Brunch at Flying Ace Farm
DESCRIPTION:Mother’s Day Brunch at Flying Ace Farm\nJoin us on Sunday\, May 10th\, for Mother’s Day at Flying Ace Farm as we host an ALL YOU CAN EAT Brunch from 11:30-2:30pm. We will be offering specialty cocktails for purchase at our upstairs bar (see cocktail menu below). \nBrunch will be held in our upstairs barn but you are welcome to eat anywhere on our property. \nAdult Tickets: $39.99 \nChild Ticket (12 & under): $19.99 \nClick on the link to purchase tickets: https://order.toasttab.com/online/flying-ace-farm-40950-flying-ace-ln \n  \n  \n  \n*Tickets are non-refundable 7 days prior to event (05.04.26)
URL:https://flyingacefarm.com/calendar/mothers-day-brunch-at-flying-ace-farm-3/
LOCATION:Flying Ace Farm
CATEGORIES:All You Can Eat,Brunch,Family,Kids,Live Music
ATTACH;FMTTYPE=image/png:https://flyingacefarm.com/wp-content/uploads/2026/04/MOTHERS-DAY-BRUNCH-INSTA-2025-1.png
END:VEVENT
BEGIN:VEVENT
DTSTART;TZID=America/Halifax:20260513T150000
DTEND;TZID=America/Halifax:20260513T200000
DTSTAMP:20260425T141049
CREATED:20260410T155257Z
LAST-MODIFIED:20260410T155257Z
UID:12781-1778684400-1778702400@flyingacefarm.com
SUMMARY:KIDS EAT FREE ~ EVERY WEDNESDAY!
DESCRIPTION:KIDS EAT FREE ~ EVERY WEDNESDAY AT FLYING ACE FARM\nMake Wednesdays a family night to remember! For every adult meal purchased\, one child (under 12) eats FREE! Enjoy our delicious house-smoked barbecue\, burgers\, hot dogs and sides while the little ones enjoy a meal on us. Details: One free kids’ meal per adult meal purchased Applicable to children under 12 (child must be present) Dine-in onlyGather the family and join us for a midweek feast at Flying Ace Farm! Tag your friends and spread the word—see you this Wednesday!  \nClick on the link below to view our menu: \nhttps://flyingacefarm.com/menu-online-ordering/
URL:https://flyingacefarm.com/calendar/kids-eat-free-every-wednesday-36/
LOCATION:Flying Ace Farm
CATEGORIES:Kids
ATTACH;FMTTYPE=image/jpeg:https://flyingacefarm.com/wp-content/uploads/2025/06/IMG_6102-scaled.jpg
END:VEVENT
BEGIN:VEVENT
DTSTART;TZID=America/New_York:20260515T190000
DTEND;TZID=America/New_York:20260515T210000
DTSTAMP:20260425T141049
CREATED:20260410T160620Z
LAST-MODIFIED:20260410T160620Z
UID:12793-1778871600-1778878800@flyingacefarm.com
SUMMARY:TRIVIA ~ FREE TO PLAY ~ EVERY FRIDAY!
DESCRIPTION:TRIVIA\nJoin us EVERY Friday for TRIVIA hosted by Pourhouse Trivia. This event starts at 7pm and is free to play. Winning team receives a prize! \nClick on the link below to see this week’s standings! \nhttps://www.pourhousetrivia.com/flying-ace-farm.html
URL:https://flyingacefarm.com/calendar/trivia-free-to-play-every-friday-13/
LOCATION:Flying Ace Farm
ATTACH;FMTTYPE=image/jpeg:https://flyingacefarm.com/wp-content/uploads/2024/03/9643_image_431335614_937347064760204_932051245563186033_n.jpg
END:VEVENT
BEGIN:VEVENT
DTSTART;TZID=America/Halifax:20260520T150000
DTEND;TZID=America/Halifax:20260520T200000
DTSTAMP:20260425T141049
CREATED:20260410T155338Z
LAST-MODIFIED:20260410T155338Z
UID:12783-1779289200-1779307200@flyingacefarm.com
SUMMARY:KIDS EAT FREE ~ EVERY WEDNESDAY!
DESCRIPTION:KIDS EAT FREE ~ EVERY WEDNESDAY AT FLYING ACE FARM\nMake Wednesdays a family night to remember! For every adult meal purchased\, one child (under 12) eats FREE! Enjoy our delicious house-smoked barbecue\, burgers\, hot dogs and sides while the little ones enjoy a meal on us. Details: One free kids’ meal per adult meal purchased Applicable to children under 12 (child must be present) Dine-in onlyGather the family and join us for a midweek feast at Flying Ace Farm! Tag your friends and spread the word—see you this Wednesday!  \nClick on the link below to view our menu: \nhttps://flyingacefarm.com/menu-online-ordering/
URL:https://flyingacefarm.com/calendar/kids-eat-free-every-wednesday-37/
LOCATION:Flying Ace Farm
CATEGORIES:Kids
ATTACH;FMTTYPE=image/jpeg:https://flyingacefarm.com/wp-content/uploads/2025/06/IMG_6102-scaled.jpg
END:VEVENT
BEGIN:VEVENT
DTSTART;TZID=America/New_York:20260522T190000
DTEND;TZID=America/New_York:20260522T210000
DTSTAMP:20260425T141049
CREATED:20260410T160713Z
LAST-MODIFIED:20260410T160713Z
UID:12795-1779476400-1779483600@flyingacefarm.com
SUMMARY:TRIVIA ~ FREE TO PLAY ~ EVERY FRIDAY!
DESCRIPTION:TRIVIA\nJoin us EVERY Friday for TRIVIA hosted by Pourhouse Trivia. This event starts at 7pm and is free to play. Winning team receives a prize! \nClick on the link below to see this week’s standings! \nhttps://www.pourhousetrivia.com/flying-ace-farm.html
URL:https://flyingacefarm.com/calendar/trivia-free-to-play-every-friday-14/
LOCATION:Flying Ace Farm
ATTACH;FMTTYPE=image/jpeg:https://flyingacefarm.com/wp-content/uploads/2024/03/9643_image_431335614_937347064760204_932051245563186033_n.jpg
END:VEVENT
END:VCALENDAR